BEGIN:VCALENDAR
VERSION:2.0
PRODID:-//Atlantic Education - ECPv4.4.1.1//NONSGML v1.0//EN
CALSCALE:GREGORIAN
METHOD:PUBLISH
X-WR-CALNAME:Atlantic Education
X-ORIGINAL-URL:http://atlantic-education.com.au
X-WR-CALDESC:Events for Atlantic Education
BEGIN:VEVENT
DTSTART;VALUE=DATE:20160831
DTEND;VALUE=DATE:20211102
DTSTAMP:20210226T122915
CREATED:20160826T095722Z
LAST-MODIFIED:20170306T095220Z
UID:222-1472601600-1635897599@atlantic-education.com.au
SUMMARY:Admission
DESCRIPTION:VB Consultancy follows a streamlined admission process to ensure that the student gets the offer letter with minimum turnaround time. Our admission staff are fully aware of DIAC rules and regulations\, subclasses and universities compliance requirements and we always ensurea fully compliant and complete admission document.
URL:http://atlantic-education.com.au/event/admission/
LOCATION:221b Baker St\, London\, NW1 6XE\, United Kingdom
CATEGORIES:Training
ATTACH;FMTTYPE=image/jpeg:http://atlantic-education.com.au/wp-content/uploads/2016/08/shutterstock_62762296.jpg
ORGANIZER;CN="Joann%20Richards":MAILTO:support@torbara.com
END:VEVENT
BEGIN:VEVENT
DTSTART;VALUE=DATE:20160831
DTEND;VALUE=DATE:20211102
DTSTAMP:20210226T122915
CREATED:20160829T135803Z
LAST-MODIFIED:20170306T095056Z
UID:278-1472601600-1635897599@atlantic-education.com.au
SUMMARY:Course & University Selection
DESCRIPTION:Our counsellors at VB are registered by EATC PIER which makes them qualified as the best and finest professionals in the world.We not only encourage our students to choose courses based on successful outlook for an industry\, but we help them choose courses that would reflect the overall personality of the student such that acoalition of course and student\, ensures a positive qualification outcome.Our extensive network and partnership with Institutes and Universities allows us to provide the best service. We closely engage with university counsellors and admission departments\, to build a truly consultative relationship in order to ensure that our student clients enrol in the most appropriate course. We help our students choose universities not only on the basis of rank but also on the basis of right course and curriculum and its availability. Every university or institution has specialities in its course offerings and only the local experience of a well credentialed counsellor can discern the benefits.
URL:http://atlantic-education.com.au/event/course-university-selection/
LOCATION:221b Baker St\, London\, NW1 6XE\, United Kingdom
CATEGORIES:Training
ATTACH;FMTTYPE=image/jpeg:http://atlantic-education.com.au/wp-content/uploads/2016/08/shutterstock_245163547.jpg
ORGANIZER;CN="Robert%20Thomson":MAILTO:support@torbara.com
END:VEVENT
END:VCALENDAR